BEGIN:VCALENDAR
VERSION:2.0
PRODID:-//jEvents 2.0 for Joomla//EN
CALSCALE:GREGORIAN
METHOD:PUBLISH
BEGIN:VTIMEZONE
TZID:Europe/Belgrade
END:VTIMEZONE
BEGIN:VEVENT
UID:0bc9f624c6cda43d5187391e32e8bfc4
CATEGORIES:Општински празник
SUMMARY:Свети Марко
DESCRIPTION;ENCODING=QUOTED-PRINTABLE:
DTSTAMP:20260424T211808Z
DTSTART;TZID=Europe/Belgrade;VALUE=DATE:20150508
DTEND;TZID=Europe/Belgrade;VALUE=DATE:20150509
SEQUENCE:0
RRULE:FREQ=YEARLY;COUNT=10;INTERVAL=1;BYYEARDAY=-238
TRANSP:OPAQUE
END:VEVENT
END:VCALENDAR